BEGIN:VCALENDAR
VERSION:2.0
PRODID:-//Eventos IEJA - ECPv6.15.11//NONSGML v1.0//EN
CALSCALE:GREGORIAN
METHOD:PUBLISH
X-WR-CALNAME:Eventos IEJA
X-ORIGINAL-URL:https://eventos.institutoieja.com.br
X-WR-CALDESC:Eventos para Eventos IEJA
REFRESH-INTERVAL;VALUE=DURATION:PT1H
X-Robots-Tag:noindex
X-PUBLISHED-TTL:PT1H
BEGIN:VTIMEZONE
TZID:America/Sao_Paulo
BEGIN:STANDARD
TZOFFSETFROM:-0300
TZOFFSETTO:-0300
TZNAME:-03
DTSTART:20230101T000000
END:STANDARD
END:VTIMEZONE
BEGIN:VEVENT
DTSTART;TZID=America/Sao_Paulo:20240905T180000
DTEND;TZID=America/Sao_Paulo:20240905T233000
DTSTAMP:20260426T004444
CREATED:20241216T160323Z
LAST-MODIFIED:20241216T161546Z
UID:162-1725559200-1725579000@eventos.institutoieja.com.br
SUMMARY:Segurança Jurídica nas PPPs e Concessões no Setor de Infraestrutura
DESCRIPTION:É com grande satisfação que o Instituto de Estudos Jurídicos Aplicados IEJA realiza evento sobre Segurança Jurídica nas Parcerias Público-Privadas (PPPs) e Concessões. \nEm um cenário de constantes transformações e inúmeros desafios\, a colaboração entre os setores público e privado se torna cada vez mais essencial para o desenvolvimento sustentável e a modernização da infraestrutura do nosso país. \nAs PPPs e concessões representam não apenas uma alternativa viável para a realização de grandes projetos\, mas também uma oportunidade de inovação e eficiência na gestão de serviços públicos. \nNo entanto\, para que essas parcerias sejam bem-sucedidas e tragam os benefícios esperados\, é fundamental que haja uma base sólida de segurança jurídica. \nHoje\, reunimos especialistas de renome e prestígio\, representantes governamentais\, empresários\, acadêmicos e membros do poder judiciário e órgãos de controle para discutir os principais aspectos jurídicos que envolvem as PPPs e concessões. \nNosso objetivo é explorar as melhores práticas\, identificar os desafios e propor soluções que garantam maior previsibilidade\, transparência e confiança nas relações entre o poder público e a iniciativa privada. \nNeste encontro\, teremos a oportunidade de debater temas cruciais como a mitigação de riscos jurídicos\, a estabilidade regulatória\, os mecanismos de resolução de conflitos e a importância de um ambiente regulatório claro e eficiente. \nAcreditamos que esses diálogos são fundamentais para fortalecer a segurança jurídica e\, consequentemente\, atrair mais investimentos e promover o desenvolvimento econômico e social. \nDesejamos a todos um evento produtivo e enriquecedor. Que possamos trocar conhecimentos\, compartilhar experiências e\, juntos\, contribuir para a construção de um futuro mais seguro e próspero para as PPPs e concessões no Brasil.
URL:https://eventos.institutoieja.com.br/event/seguranca-juridica-nas-ppps-e-concessoes-no-setor-de-infraestrutura/
LOCATION:ROSEWOOD HOTEL\, R. Itapeva\, 435 - Bela Vista\, São Paulo - SP\, São Paulo\, SP\, 01332-000\, Brazil
CATEGORIES:Seminário
ATTACH;FMTTYPE=image/jpeg:https://eventos.institutoieja.com.br/wp-content/uploads/2024/12/SeminarioPortos1000.jpg
ORGANIZER;CN="Instituto IEJA":MAILTO:contato@institutoieja.com.br
END:VEVENT
END:VCALENDAR