BEGIN:VCALENDAR
VERSION:2.0
PRODID:-//Eventos IEJA - ECPv6.15.11//NONSGML v1.0//EN
CALSCALE:GREGORIAN
METHOD:PUBLISH
X-ORIGINAL-URL:https://eventos.institutoieja.com.br
X-WR-CALDESC:Eventos para Eventos IEJA
REFRESH-INTERVAL;VALUE=DURATION:PT1H
X-Robots-Tag:noindex
X-PUBLISHED-TTL:PT1H
BEGIN:VTIMEZONE
TZID:America/Sao_Paulo
BEGIN:STANDARD
TZOFFSETFROM:-0300
TZOFFSETTO:-0300
TZNAME:-03
DTSTART:20230101T000000
END:STANDARD
END:VTIMEZONE
BEGIN:VEVENT
DTSTART;TZID=America/Sao_Paulo:20241124T160000
DTEND;TZID=America/Sao_Paulo:20241126T180000
DTSTAMP:20260425T210935
CREATED:20241216T164422Z
LAST-MODIFIED:20250609T170917Z
UID:171-1732464000-1732644000@eventos.institutoieja.com.br
SUMMARY:Simpósio Internacional Bruxelas 2024
DESCRIPTION:De 24 a 26 de novembro de 2024\, em Bruxelas\, Bélgica\, prepare-se para explorar temas cruciais como a proteção dos direitos fundamentais na era digital\, a transição ecológica e os desafios enfrentados pelos sistemas de justiça em um mundo em rápida transformação. \nTemas: \n\nPainel II: A Era Digital: Inteligência Artificial\, Inovação e Digitalização da Justiça\nPainel III: Proteção de Dados\, Persecução Penal e a Tutela de Direitos Fundamentais na Sociedade Digital\nPainel IV: Mesa Redonda: Ministério Público do Brasil e Procuradoria da União Europeia – a corrupção como o alfa e o ômega de um múnus eficiente\nPainel V: Direitos Fundamentais\, Ministério Público e a Tutela da Vítima\nPainel VI: Sustentabilidade\, a Transição Ecológica e a Emergência Climática\nPainel VII: Proteção do Estado de Direito e Corrupção Sistêmica: caminhos para uma atuação eficiente do Ministério Público\nEncerramento: Desafios da modernidade: inovação\, combate à criminalidade e sustentabilidade na arena global\nLançamento da Revista/Livro do Simpósio Internacional de Bruxelas\nPainel I: Cortes Superiores\, Constitucionalismo e Democracia na Contemporaneidade
URL:https://eventos.institutoieja.com.br/event/simposio-internacional-bruxelas-2024/
LOCATION:Steigenberger Wiltcher’s\, Av. Louise 71\, 1050\, Bruxelas\, Bruxelas\, Belgium
CATEGORIES:Simpósio
ATTACH;FMTTYPE=image/png:https://eventos.institutoieja.com.br/wp-content/uploads/2024/12/SIMPOSIO-INTERNACIONAL.png
ORGANIZER;CN="Instituto IEJA":MAILTO:contato@institutoieja.com.br
END:VEVENT
END:VCALENDAR