BEGIN:VCALENDAR
VERSION:2.0
PRODID:-//Eventos IEJA - ECPv6.15.11//NONSGML v1.0//EN
CALSCALE:GREGORIAN
METHOD:PUBLISH
X-WR-CALNAME:Eventos IEJA
X-ORIGINAL-URL:https://eventos.institutoieja.com.br
X-WR-CALDESC:Eventos para Eventos IEJA
REFRESH-INTERVAL;VALUE=DURATION:PT1H
X-Robots-Tag:noindex
X-PUBLISHED-TTL:PT1H
BEGIN:VTIMEZONE
TZID:America/Sao_Paulo
BEGIN:STANDARD
TZOFFSETFROM:-0300
TZOFFSETTO:-0300
TZNAME:-03
DTSTART:20230101T000000
END:STANDARD
END:VTIMEZONE
BEGIN:VEVENT
DTSTART;TZID=America/Sao_Paulo:20241106T180000
DTEND;TZID=America/Sao_Paulo:20241106T220000
DTSTAMP:20260425T200112
CREATED:20241216T172753Z
LAST-MODIFIED:20241216T174341Z
UID:180-1730916000-1730930400@eventos.institutoieja.com.br
SUMMARY:Seminário Lavagem de Dinheiro - 4ª Edição
DESCRIPTION:O Seminário Lavagem de Dinheiro será realizado de forma presencial\, com transmissão ao vivo\, e tem como objetivo contribuir para o debate sobre o Combate à Lavagem de Dinheiro em um Mundo de Criptoativos\, contando com a participação de autoridades dos Três Poderes e especialistas no tema. \nTrata-se de um grave delito que ameaça os interesses estratégicos\, políticos e econômicos de um país\, podendo privar o Estado dos recursos financeiros necessários para seu desenvolvimento sustentável\, além de abalar a confiança dos cidadãos na capacidade de seus governantes em promover a justiça fiscal e agir com ética e integridade. \nEm razão disso\, o Instituto IEJA promove essa agenda permanente\, agora em sua quarta edição\, reunindo as maiores autoridades no assunto e estudiosos focados em soluções práticas para o combate ao crime. \nTemas abordados: \nPainel 1 – O Sistema Financeiro x Crime Organizado \nQual tem sido o papel dos bancos e da CVM no Combate a Lavagem de Dinheiro no Brasil. Enfatizando as medidas e a devida urgência do tema\, em função dos métodos sofisticados utilizados pelas organizações criminosas no Brasil. \nPainel 2 – Cripto\, Shadow Banking\, Empresas de Fachadas\, Contratos Públicos e Imóveis \nO crime organizado tem utilizado sistemas menos regulamentados\, aproveitando a falta de transparência e regulação. Da mesma forma que contratos públicos de infraestrutura e do setor imobiliário são amplamente explorados para a lavagem de dinheiro\, setores como a indústria\, os serviços e os transportes também estão sendo alvo de organizações transnacionais de tráfico de drogas. \nPainel 3 – A Lavagem de Dinheiro sob a Lente do Sistema de Justiça  \nO sistema de justiça é a espinha dorsal de qualquer sociedade democrática. No contexto do combate ao crime organizado\, tem desempenhado uma função essencial para a manutenção da ordem pública e da confiança nas instituições.
URL:https://eventos.institutoieja.com.br/event/seminario-lavagem-de-dinheiro-4a-edicao/
LOCATION:Condomínio ION\, SGAN Q 601 BL H - Asa Norte\, Brasília\, Distrito Federal\, 70830-018\, Brazil
CATEGORIES:Seminário
ATTACH;FMTTYPE=image/jpeg:https://eventos.institutoieja.com.br/wp-content/uploads/2024/12/LavagemDeDinheiro2024.jpg
ORGANIZER;CN="Instituto IEJA":MAILTO:contato@institutoieja.com.br
END:VEVENT
END:VCALENDAR