BEGIN:VCALENDAR
VERSION:2.0
PRODID:-//Eventos IEJA - ECPv6.15.11//NONSGML v1.0//EN
CALSCALE:GREGORIAN
METHOD:PUBLISH
X-ORIGINAL-URL:https://eventos.institutoieja.com.br
X-WR-CALDESC:Eventos para Eventos IEJA
REFRESH-INTERVAL;VALUE=DURATION:PT1H
X-Robots-Tag:noindex
X-PUBLISHED-TTL:PT1H
BEGIN:VTIMEZONE
TZID:America/Sao_Paulo
BEGIN:STANDARD
TZOFFSETFROM:-0300
TZOFFSETTO:-0300
TZNAME:-03
DTSTART:20240101T000000
END:STANDARD
END:VTIMEZONE
BEGIN:VEVENT
DTSTART;TZID=America/Sao_Paulo:20251001T120000
DTEND;TZID=America/Sao_Paulo:20251001T150000
DTSTAMP:20260425T005301
CREATED:20250903T014214Z
LAST-MODIFIED:20251001T201320Z
UID:482-1759320000-1759330800@eventos.institutoieja.com.br
SUMMARY:Tá na Mesa - 3ª Edição com Guilherme Theo
DESCRIPTION:IEJA Celebra o Sucesso da 3ª Edição do “Tá Na Mesa” com Guilherme Theo\, Diretor-Geral da ANTT\nBrasília\, 01 de Outubro de 2025 – O Instituto de Estudos Jurídicos Aplicados (IEJA) realizou com grande êxito\, nesta quarta-feira\, a 3ª Edição do seu aclamado evento “Tá Na Mesa”. O encontro\, que já se consolidou como um importante fórum de diálogo estratégico para o país\, teve como convidado de honra o Diretor-Geral da Agência Nacional de Transportes Terrestres (ANTT)\, Guilherme Theo\, e reuniu lideranças do setor público e privado em um almoço exclusivo na sede do Instituto\, no Lago Sul. \nCom o tema central “Infraestrutura de Transportes do Brasil: Projetos e Perspectivas”\, o evento proporcionou um ambiente de debate aprofundado e de alto nível. Guilherme Theo apresentou um panorama detalhado sobre os projetos em andamento e as futuras direções para o setor de transportes terrestres\, considerado um pilar essencial para o desenvolvimento econômico e social do Brasil. \nEm formato de roda de conversa\, o “Tá Na Mesa” promoveu uma interação dinâmica e produtiva entre os participantes. Autoridades dos Três Poderes\, especialistas e representantes de diversos setores tiveram a oportunidade de trocar ideias e experiências de maneira descontraída\, mas profundamente enriquecedora. A iniciativa reafirma o compromisso do IEJA em fortalecer a ponte entre o setor público e a iniciativa privada\, fomentando discussões que moldam o futuro do país. \nO debate abordou os principais desafios da infraestrutura nacional\, as inovações regulatórias e as oportunidades de investimento que se desenham no horizonte. A presença qualificada dos convidados enriqueceu a discussão\, permitindo uma análise multifacetada sobre as melhores estratégias para impulsionar a competitividade e a eficiência logística do Brasil. \nO sucesso desta edição reforça a relevância do “Tá Na Mesa” como uma plataforma de diálogo qualificado e networking. O IEJA se orgulha de criar um espaço onde as principais lideranças do país podem se reunir para discutir\, de forma franca e colaborativa\, os rumos de setores estratégicos para a nação. O Instituto agradece a presença de todos os participantes e\, em especial\, ao Diretor-Geral Guilherme Theo por sua valiosa contribuição para o debate. \nConfira os melhores momentos deste encontro! \n             \n 
URL:https://eventos.institutoieja.com.br/event/ta-na-mesa-3a-edicao-com-guilherme-theo/
LOCATION:SEDE IEJA\, St. de Habitações Individuais Sul QI 8 Conjunto 8 Casa 02 - Lago Sul\, Brasília - DF\, 71620-285\, Brasília\, DF\, 71620-285\, Brazil
CATEGORIES:Seminário
ATTACH;FMTTYPE=image/png:https://eventos.institutoieja.com.br/wp-content/uploads/2025/09/Realizacao-5-1.png
ORGANIZER;CN="Instituto IEJA":MAILTO:contato@institutoieja.com.br
END:VEVENT
END:VCALENDAR