BEGIN:VCALENDAR
VERSION:2.0
PRODID:-//Eventos IEJA - ECPv6.15.11//NONSGML v1.0//EN
CALSCALE:GREGORIAN
METHOD:PUBLISH
X-ORIGINAL-URL:https://eventos.institutoieja.com.br
X-WR-CALDESC:Eventos para Eventos IEJA
REFRESH-INTERVAL;VALUE=DURATION:PT1H
X-Robots-Tag:noindex
X-PUBLISHED-TTL:PT1H
BEGIN:VTIMEZONE
TZID:America/Sao_Paulo
BEGIN:STANDARD
TZOFFSETFROM:-0300
TZOFFSETTO:-0300
TZNAME:-03
DTSTART:20240101T000000
END:STANDARD
END:VTIMEZONE
BEGIN:VEVENT
DTSTART;VALUE=DATE:20251102
DTEND;VALUE=DATE:20251105
DTSTAMP:20260425T005203
CREATED:20250730T194951Z
LAST-MODIFIED:20251218T181929Z
UID:329-1762041600-1762300799@eventos.institutoieja.com.br
SUMMARY:II Simpósio Internacional em Bruxelas
DESCRIPTION:Nos dias 02 a 04 de Novembro de 2025\, Bruxelas será palco da segunda edição do Simpósio Internacional sobre os desafios do Direito na era digital e climática\, uma realização do IEJA em parceria com a AMB e a CONAMP.\nReunindo juristas renomados do Brasil e do exterior\, o evento debaterá os impactos das Inteligências Artificiais (IAs) e da crise ambiental nos sistemas de justiça\, com foco na proteção dos direitos fundamentais. \nO encontro analisará as experiências do Sistema de Justiça da Europa para fortalecer o Sistema de Justiça do Brasil\, promovendo diálogos sobre direitos\, garantias e deveres frente à transformação digital e emergência climática. O evento é voltado para juristas\, magistrados\, membros do Ministério Público\, acadêmicos e empresas interessadas em conhecer as particularidades e similitudes dos Sistemas de Justiça europeu e brasileiro. \nData: 02 a 04 de Novembro de 2025 \nLocal: Rocco Forte Hotel Amigo – Bruxelas\, Bélgica \nParceiros Acadêmicos: AMB – CONAMP – UFMG – Casa Educação – Universidade Brasil – UNIESP \nSteigenberger Icon Wiltcher’s \n 
URL:https://eventos.institutoieja.com.br/event/ii-simposio-internacional-em-bruxelas/
LOCATION:Rocco Forte Hotel Amigo\, Rue de l'Amigo 1\, 1000 Bruxelles\, Bélgica\, Bruxelas\, Belgium
CATEGORIES:Simpósio
ATTACH;FMTTYPE=image/png:https://eventos.institutoieja.com.br/wp-content/uploads/2025/10/Realizacao-7.png
ORGANIZER;CN="Instituto IEJA":MAILTO:contato@institutoieja.com.br
END:VEVENT
END:VCALENDAR