BEGIN:VCALENDAR
VERSION:2.0
PRODID:-//Eventos IEJA - ECPv6.15.11//NONSGML v1.0//EN
CALSCALE:GREGORIAN
METHOD:PUBLISH
X-WR-CALNAME:Eventos IEJA
X-ORIGINAL-URL:https://eventos.institutoieja.com.br
X-WR-CALDESC:Eventos para Eventos IEJA
REFRESH-INTERVAL;VALUE=DURATION:PT1H
X-Robots-Tag:noindex
X-PUBLISHED-TTL:PT1H
BEGIN:VTIMEZONE
TZID:America/Sao_Paulo
BEGIN:STANDARD
TZOFFSETFROM:-0300
TZOFFSETTO:-0300
TZNAME:-03
DTSTART:20250101T000000
END:STANDARD
END:VTIMEZONE
BEGIN:VEVENT
DTSTART;TZID=America/Sao_Paulo:20260129T150000
DTEND;TZID=America/Sao_Paulo:20260130T183000
DTSTAMP:20260425T112619
CREATED:20251202T172222Z
LAST-MODIFIED:20260130T170532Z
UID:2332-1769698800-1769797800@eventos.institutoieja.com.br
SUMMARY:1° Curso Prático para Atuação no Tribunal Superior do Trabalho
DESCRIPTION:
URL:https://eventos.institutoieja.com.br/event/1-curso-pratico-para-atuacao-no-tribunal-superior-do-trabalho/
LOCATION:Belo Horizonte\, Belo Horizonte\, Minas Gerais\, Brazil
ORGANIZER;CN="Instituto IEJA":MAILTO:contato@institutoieja.com.br
END:VEVENT
BEGIN:VEVENT
DTSTART;TZID=America/Sao_Paulo:20260204T110000
DTEND;TZID=America/Sao_Paulo:20260204T140000
DTSTAMP:20260425T112619
CREATED:20260108T011559Z
LAST-MODIFIED:20260203T214533Z
UID:2599-1770202800-1770213600@eventos.institutoieja.com.br
SUMMARY:4ª Edição Tá na Mesa
DESCRIPTION:
URL:https://eventos.institutoieja.com.br/event/4a-edicao-ta-na-mesa/
LOCATION:SEDE IEJA\, St. de Habitações Individuais Sul QI 8 Conjunto 8 Casa 02 - Lago Sul\, Brasília - DF\, 71620-285\, Brasília\, DF\, 71620-285\, Brazil
ORGANIZER;CN="Instituto IEJA":MAILTO:contato@institutoieja.com.br
END:VEVENT
BEGIN:VEVENT
DTSTART;TZID=America/Sao_Paulo:20260305T130000
DTEND;TZID=America/Sao_Paulo:20260306T190000
DTSTAMP:20260425T112619
CREATED:20260210T184545Z
LAST-MODIFIED:20260304T194421Z
UID:3633-1772715600-1772823600@eventos.institutoieja.com.br
SUMMARY:Curso Prático para Atuação no Tribunal Superior do Trabalho - São Paulo
DESCRIPTION:
URL:https://eventos.institutoieja.com.br/event/1-curso-pratico-para-atuacao-no-tribunal-superior-do-trabalho-sao-paulo/
LOCATION:Auditório PUC/SP\, Rua Ministro Godoi\, 969 - Perdizes. Auditório 333\, 2o. Andar.\, São Paulo\, São Paulo\, 05014-001\, Brazil
ORGANIZER;CN="Instituto IEJA":MAILTO:contato@institutoieja.com.br
END:VEVENT
BEGIN:VEVENT
DTSTART;TZID=America/Sao_Paulo:20260506T130000
DTEND;TZID=America/Sao_Paulo:20260507T203000
DTSTAMP:20260425T112619
CREATED:20260327T212952Z
LAST-MODIFIED:20260402T130705Z
UID:4270-1778072400-1778185800@eventos.institutoieja.com.br
SUMMARY:Curso Prático para Atuação no Tribunal Superior do Trabalho – Brasília
DESCRIPTION:
URL:https://eventos.institutoieja.com.br/event/curso-pratico-para-atuacao-no-tribunal-superior-do-trabalho-brasilia/
END:VEVENT
END:VCALENDAR