BEGIN:VCALENDAR
VERSION:2.0
PRODID:-//Eventos IEJA - ECPv6.15.11//NONSGML v1.0//EN
CALSCALE:GREGORIAN
METHOD:PUBLISH
X-WR-CALNAME:Eventos IEJA
X-ORIGINAL-URL:https://eventos.institutoieja.com.br
X-WR-CALDESC:Eventos para Eventos IEJA
REFRESH-INTERVAL;VALUE=DURATION:PT1H
X-Robots-Tag:noindex
X-PUBLISHED-TTL:PT1H
BEGIN:VTIMEZONE
TZID:America/Sao_Paulo
BEGIN:STANDARD
TZOFFSETFROM:-0300
TZOFFSETTO:-0300
TZNAME:-03
DTSTART:20230101T000000
END:STANDARD
END:VTIMEZONE
BEGIN:VEVENT
DTSTART;TZID=America/Sao_Paulo:20241212T090000
DTEND;TZID=America/Sao_Paulo:20241212T130000
DTSTAMP:20260425T175515
CREATED:20241216T175934Z
LAST-MODIFIED:20250430T122812Z
UID:186-1733994000-1734008400@eventos.institutoieja.com.br
SUMMARY:Seminário STF EM AÇÃO - 6ª Edição
DESCRIPTION:Participe do principal evento de análise jurídica do país! \nPrepare-se para uma experiência exclusiva que conecta você diretamente aos bastidores das mais importantes decisões do Supremo Tribunal Federal. \nO STF EM AÇÃO chega à sua 6ª edição\, reunindo os Ministros do STF em um ambiente de troca\, aprendizado e análise crítica. \nProgramação: \n\n\n\nPAINEL 1 \nJustiça e Desenvolvimento: Geopolítica Econômica e Segurança Jurídica no Brasil Contemporâneo. \n\n\nCom a participação do Ministro do Supremo Tribunal Federal Luiz Fux\, do Advogado-Geral da União Substituto e do Economista-Chefe do Banco Master\, este painel debaterá as interseções entre o sistema de justiça e as dinâmicas econômicas globais. O Ministro do Supremo Tribunal Federal e o Advogado-Geral da União discutirão como a segurança jurídica pode impulsionar o desenvolvimento econômico sustentável no Brasil e aumentar a competitividade do país no cenário internacional. O debate também abordará os desafios da geopolítica econômica em um mundo multipolar e os papéis fundamentais das instituições jurídicas e econômicas na garantia de estabilidade e atração de investimentos. \n\n\n\nSegurança Jurídica como Pilar do Desenvolvimento Econômico\n\n\n\n\nGeopolítica Econômica e a Posição do Brasil no Cenário Internacional\n\n\n\n\nIntegração entre Justiça\, Economia e Governança\n\n\n\n\nRiscos e Oportunidades na Economia Brasileira\n\n\n\nPAINEL 2 \n\n\n\n\n\n\nDemocracia em Tempos Difíceis: Desafios e Perspectivas no Brasil Contemporâneo \n\n\nCom a participação dos Ministros do Supremo Tribunal Federal Alexandre de Moraes e Flávio Dino\, este painel abordará os desafios enfrentados pela democracia brasileira em um contexto de crises globais\, polarização política e avanços tecnológicos. A discussão analisará como as instituições democráticas podem se fortalecer para proteger direitos fundamentais\, combater desinformação e garantir a harmonia entre os Poderes da República. \n\n\n\nA Proteção da Democracia em Tempos de Crise\n\n\n\n\nO Combate à Desinformação e os Limites da Liberdade de Expressão\n\n\n\n\nA Relação entre os Poderes da República e o Equilíbrio Democrático
URL:https://eventos.institutoieja.com.br/event/seminario-stf-em-acao-6a-edicao/
LOCATION:B HOTEL\, SHN - Quadra 5 - Bloco J - Lote L - Asa Norte\, Brasília\, Distrito Federal\, Brazil
ATTACH;FMTTYPE=image/png:https://eventos.institutoieja.com.br/wp-content/uploads/2024/12/Design-sem-nome-8.png
ORGANIZER;CN="Instituto IEJA":MAILTO:contato@institutoieja.com.br
END:VEVENT
END:VCALENDAR