BEGIN:VCALENDAR
VERSION:2.0
PRODID:-//Eventos IEJA - ECPv6.15.11//NONSGML v1.0//EN
CALSCALE:GREGORIAN
METHOD:PUBLISH
X-ORIGINAL-URL:https://eventos.institutoieja.com.br
X-WR-CALDESC:Eventos para Eventos IEJA
REFRESH-INTERVAL;VALUE=DURATION:PT1H
X-Robots-Tag:noindex
X-PUBLISHED-TTL:PT1H
BEGIN:VTIMEZONE
TZID:America/Sao_Paulo
BEGIN:STANDARD
TZOFFSETFROM:-0300
TZOFFSETTO:-0300
TZNAME:-03
DTSTART:20250101T000000
END:STANDARD
END:VTIMEZONE
BEGIN:VEVENT
DTSTART;TZID=America/Sao_Paulo:20260129T150000
DTEND;TZID=America/Sao_Paulo:20260130T183000
DTSTAMP:20260424T193721
CREATED:20251202T172222Z
LAST-MODIFIED:20260130T170532Z
UID:2332-1769698800-1769797800@eventos.institutoieja.com.br
SUMMARY:1° Curso Prático para Atuação no Tribunal Superior do Trabalho
DESCRIPTION:
URL:https://eventos.institutoieja.com.br/event/1-curso-pratico-para-atuacao-no-tribunal-superior-do-trabalho/
LOCATION:Belo Horizonte\, Belo Horizonte\, Minas Gerais\, Brazil
ORGANIZER;CN="Instituto IEJA":MAILTO:contato@institutoieja.com.br
END:VEVENT
END:VCALENDAR